BEGIN:VCALENDAR
VERSION:2.0
PRODID:-//akse e. V. - ECPv6.15.20//NONSGML v1.0//EN
CALSCALE:GREGORIAN
METHOD:PUBLISH
X-WR-CALNAME:akse e. V.
X-ORIGINAL-URL:https://akse-ev.de
X-WR-CALDESC:Veranstaltungen für akse e. V.
REFRESH-INTERVAL;VALUE=DURATION:PT1H
X-Robots-Tag:noindex
X-PUBLISHED-TTL:PT1H
BEGIN:VTIMEZONE
TZID:Europe/Berlin
BEGIN:DAYLIGHT
TZOFFSETFROM:+0100
TZOFFSETTO:+0200
TZNAME:CEST
DTSTART:20240331T010000
END:DAYLIGHT
BEGIN:STANDARD
TZOFFSETFROM:+0200
TZOFFSETTO:+0100
TZNAME:CET
DTSTART:20241027T010000
END:STANDARD
BEGIN:DAYLIGHT
TZOFFSETFROM:+0100
TZOFFSETTO:+0200
TZNAME:CEST
DTSTART:20250330T010000
END:DAYLIGHT
BEGIN:STANDARD
TZOFFSETFROM:+0200
TZOFFSETTO:+0100
TZNAME:CET
DTSTART:20251026T010000
END:STANDARD
BEGIN:DAYLIGHT
TZOFFSETFROM:+0100
TZOFFSETTO:+0200
TZNAME:CEST
DTSTART:20260329T010000
END:DAYLIGHT
BEGIN:STANDARD
TZOFFSETFROM:+0200
TZOFFSETTO:+0100
TZNAME:CET
DTSTART:20261025T010000
END:STANDARD
END:VTIMEZONE
BEGIN:VEVENT
DTSTART;TZID=Europe/Berlin:20250513T170000
DTEND;TZID=Europe/Berlin:20250513T190000
DTSTAMP:20260421T101212
CREATED:20250328T120044Z
LAST-MODIFIED:20250328T120044Z
UID:1664-1747155600-1747162800@akse-ev.de
SUMMARY:Online Veranstaltung Persönliche Assistenz und Versicherungsfragen
DESCRIPTION:Wenn uns in der Beratung Fragen gestellt werden\, die mit „Was wäre\, wenn …“ beginnen\, geht es meistens um Themen rund um Absicherung\, Versicherung und Vorbereitung auf Ausnahmefälle. Da wir als Beraterinnen zwar selbst je nach Bedarf die ein oder andere Versicherung nutzen\, die unser Leben mit Assistenz ein wenig sicherer macht\, sind wir jedoch noch lange keine Experten auf dem gesamten Gebiet. Deshalb haben wir Steven Punt von der Allianz Agentur in Heidelberg eingeladen\, um eure Fragen rund um die persönliche Assistenz und mögliche sowie nötige Versicherungen zu klären.\nWichtig ist uns zu betonen\, dass wir als Beraterinnen keinerlei Abhängigkeit von einzelnen Versicherungsanbietern haben; wir sind unabhängig und werden das auch weiterhin bleiben. \nWir freuen uns\, wenn ihr uns im Vorfeld schon einmal über das Anmeldeformular eure Fragen\, die ihr in den Workshop mitbringt\, mitteilt\, damit Steven sich gut vorbereiten kann. \nBitte meldet euch spätestens bis zum 11. Mai um 0:00 Uhr über das verlinkte Formular an: https://forms.office.com/r/MWXWqy3WkF
URL:https://akse-ev.de/veranstaltung/online-veranstaltung-persoenliche-assistenz-und-versicherungsfragen/
LOCATION:Online über Zoom\, Teilnahme ist über die Zoom-App\, am Computer über das Internet oder per Einwahl über Telefon möglich
ATTACH;FMTTYPE=image/png:https://akse-ev.de/wp-content/uploads/2025/03/3-e1743163224970.png
END:VEVENT
BEGIN:VEVENT
DTSTART;TZID=Europe/Berlin:20250514T183000
DTEND;TZID=Europe/Berlin:20250514T203000
DTSTAMP:20260421T101212
CREATED:20250506T083454Z
LAST-MODIFIED:20250506T102448Z
UID:1810-1747247400-1747254600@akse-ev.de
SUMMARY:Online-Lesung "Stoppt Ableismus" am 14. Mai
DESCRIPTION:Liebe Interessierte\, \nwir laden euch herzlich zu einer Online-Lesung am 14. Mai 2025 um 18:30 Uhr via Zoom ein. Bis 20:30 Uhr werden Auszüge aus dem Buch „Stoppt Ableismus!“ von Anne Gersdorff und Karina Sturm gelesen. Die Lesung dauert 90 Minuten\, im Anschluss haben wir Zeit für Fragen und Diskussion. Diese Lesung wird durch die Aktion Mensch im Rahmen der Förderung zum 5. Mai unterstützt. \nDas Buch setzt sich intensiv mit dem Thema Assistenz\, sowie Gewalt an Menschen mit Behinderung auseinander und beleuchtet die Herausforderungen und Missstände in diesem Bereich.\nWir freuen uns über eure Teilnahme! Bitte meldet euch bis zum 14. Mai um 14:00 Uhr unter https://forms.office.com/r/ZxjTekj6Ux?origin=lprLink an. Bis 16:00 Uhr am 14. Mai erhaltet ihr den Zoom-Link. \nDas Buch „Stoppt Ableismus!“ thematisiert den Ableismus\, eine Diskriminierungsform\, die Menschen mit Behinderungen betrifft. Es beleuchtet\, wie gesellschaftliche Normen und Strukturen Menschen mit Behinderungen benachteiligen und ihnen oft den Zugang zu Selbstbestimmung und Teilhabe verwehren. \nDer Schwerpunkt liegt auf den Erfahrungen und Herausforderungen\, die Menschen mit Behinderungen im Bereich der Assistenz und im Umgang mit Gewalt machen. Die Autorinnen fordern ein Umdenken und sensibilisieren für die Notwendigkeit\, diese Themen offen zu diskutieren\, um eine inklusive und gerechte Gesellschaft zu schaffen. Sie bieten Perspektiven und Handlungsansätze\, um gegen Diskriminierung und Gewalt vorzugehen und unterstützen die Stärkung der Stimmen von Menschen mit Behinderungen.
URL:https://akse-ev.de/veranstaltung/online-lesung-stoppt-ableismus-am-14-mai/
LOCATION:Online über Zoom\, Teilnahme ist über die Zoom-App\, am Computer über das Internet oder per Einwahl über Telefon möglich
ATTACH;FMTTYPE=image/jpeg:https://akse-ev.de/wp-content/uploads/2025/05/X.jpg
END:VEVENT
BEGIN:VEVENT
DTSTART;TZID=Europe/Berlin:20250516T000000
DTEND;TZID=Europe/Berlin:20250517T235959
DTSTAMP:20260421T101212
CREATED:20250306T105706Z
LAST-MODIFIED:20250411T120852Z
UID:1617-1747353600-1747526399@akse-ev.de
SUMMARY:Gestern - Heute - Morgen: Die Behindertenrechtsbewegung im Dialog – eine Mitmachtagung von Bifos e.V.
DESCRIPTION:Wann? Freitag\, 16. Mai 2025 ab 14.00 Uhr\, Samstag\, 17. Mai 2025 von 09.30 Uhr bis 15.00 Uhr \nWo? Zentrum für selbstbestimmtes Leben Kassel\, Samuel-Beckett-Anlage 6\, 34119 Kassel \nWorum geht’s? Wir laden euch ein\, aktiv an unserer Mitmach-Konferenz teilzunehmen! Gemeinsam schauen wir auf die Geschichte der Selbstbestimmt-Leben-Bewegung und diskutieren aktuelle Themen und Herausforderungen. Lernt voneinander\, gestaltet die Zukunft und lasst eure Stimmen hören! \nWie könnt ihr Euch einbringen? Unsere Konferenz lebt von euren Ideen\, Fragen und Themen! Habt ihr Vorschläge für Workshops\, Diskussionsrunden oder kreative Formate? Möchtet ihr Projekte vorstellen oder neue Initiativen anstoßen? Dann bringt euch ein und gestaltet die Inhalte mit! \nWarum dabei sein? \n\nFür junge Aktivistinnen: Nutzt die Chance\, von den Erfahrungen der Pioniere des Selbstbestimmten Lebens zu lernen und bringt eure Ideen für die nächsten Schritte ein.\nFür Wegbegleiter*innen: Teilt euer Wissen und inspiriert die nächste Generation zu einer inklusiven Zukunft!\n\nFinanzierung: Wir haben einen Förderantrag bei Aktion Mensch gestellt. Bei Bewilligung können wir Zuschüsse zu Übernachtungs- und Reisekosten anbieten. Wir halten euch auf dem Laufenden! \nAnmeldung: Meldet euch unter dem Link an und teilt uns eure Ideen mit! Der Anmeldeschluss ist Dienstag\, der 01. April 2025. \nFragen? Schreibt an Juliane Harms: juliane.harms@bifos.de \nLasst uns gemeinsam eine starke Stimme für die Zukunft der Inklusion und Selbstbestimmung sein! ?✨ #Teilhabe #Inklusion #SelbstbestimmtLeben #MitmachKonferenz
URL:https://akse-ev.de/veranstaltung/%f0%9f%8c%9f-gestern-heute-morgen-%f0%9f%8c%9fdie-behindertenrechtsbewegung-im-dialog-eine-mitmachtagung-von-bifos-e-v/
LOCATION:Zentrum für selbstbestimmtes Leben Kassel\, Samuel-Beckett-Anlage 6\, Kassel\, 34119\, Germany
ATTACH;FMTTYPE=image/jpeg:https://akse-ev.de/wp-content/uploads/2025/03/iStock-1480578223-scaled-e1741258679426.jpg
END:VEVENT
END:VCALENDAR