BEGIN:VCALENDAR
VERSION:2.0
PRODID:-//akse e. V. - ECPv6.15.20//NONSGML v1.0//EN
CALSCALE:GREGORIAN
METHOD:PUBLISH
X-ORIGINAL-URL:https://akse-ev.de
X-WR-CALDESC:Veranstaltungen für akse e. V.
REFRESH-INTERVAL;VALUE=DURATION:PT1H
X-Robots-Tag:noindex
X-PUBLISHED-TTL:PT1H
BEGIN:VTIMEZONE
TZID:Europe/Berlin
BEGIN:DAYLIGHT
TZOFFSETFROM:+0100
TZOFFSETTO:+0200
TZNAME:CEST
DTSTART:20240331T010000
END:DAYLIGHT
BEGIN:STANDARD
TZOFFSETFROM:+0200
TZOFFSETTO:+0100
TZNAME:CET
DTSTART:20241027T010000
END:STANDARD
BEGIN:DAYLIGHT
TZOFFSETFROM:+0100
TZOFFSETTO:+0200
TZNAME:CEST
DTSTART:20250330T010000
END:DAYLIGHT
BEGIN:STANDARD
TZOFFSETFROM:+0200
TZOFFSETTO:+0100
TZNAME:CET
DTSTART:20251026T010000
END:STANDARD
BEGIN:DAYLIGHT
TZOFFSETFROM:+0100
TZOFFSETTO:+0200
TZNAME:CEST
DTSTART:20260329T010000
END:DAYLIGHT
BEGIN:STANDARD
TZOFFSETFROM:+0200
TZOFFSETTO:+0100
TZNAME:CET
DTSTART:20261025T010000
END:STANDARD
END:VTIMEZONE
BEGIN:VEVENT
DTSTART;TZID=Europe/Berlin:20251125T100000
DTEND;TZID=Europe/Berlin:20251125T140000
DTSTAMP:20260421T144626
CREATED:20250910T115210Z
LAST-MODIFIED:20250922T121642Z
UID:2794-1764064800-1764079200@akse-ev.de
SUMMARY:Online Veranstaltung: Persönliches Budget und außerklinische Intensivpflege
DESCRIPTION:Dieser Termin beschäftigt sich ausschließlich mit der Kombination aus persönlichem Budget und außerklinischer Intensivpflege. Die Inhalte bauen auf den ersten beiden Workshops auf. Wir zeigen\, wie ein persönliches Budget für die außerklinische Intensivpflege gestaltet werden kann\, geben praxisnahe Beispiele und erläutern die wichtigsten Aspekte einer sorgfältigen Kostenkalkulation. \nDie Veranstaltung ist ein Teil der Reihe „Persönliches Budget und außerklinische Intensivpflege“ \nAnmeldungen nehmen wir bis 05.11. entgegen. Unter folgendem Link können Sie sich anmelden. \nJede Eintragung gilt als verbindliche Anmeldung. Aufgrund der vielen Anfragen können wir keine zusätzlichen Anmeldebestätigungen versenden. \nDer Versand der Rechnungen beginnt in Kalenderwoche 44. \nSollte das Formular nicht barrierefrei sein\, melden Sie sich bitte per E-Mail an intensivpflege@akse-ev.de. Wir unterstützen Sie gern. \nSie erhalten zeitnah vor der Veranstaltung den Teilnahmelink für Zoom. \nWir erheben eine Teilnahmegebühr von 35\,00 € pro Termin. Bei einer gleichzeitigen Buchung aller drei Termine zahlen Sie insgesamt nur 90\,00 €. \nFür Nutzer*innen der außerklinischen Intensivpflege\, die sich eine Teilnahme an der Veranstaltung nicht leisten können\, gibt es einen Soli-Topf mit Warteliste. Sollten Sie also einer Person die Möglichkeit geben wollen teilzunehmen\, freuen wir uns\, wenn sie unseren Soli-Topf mit einer Spende unterstützen.
URL:https://akse-ev.de/veranstaltung/online-veranstaltung-persoenliches-budget-und-ausserklinische-intensivpflege-november/
LOCATION:Online über Zoom\, Teilnahme ist über die Zoom-App\, am Computer über das Internet oder per Einwahl über Telefon möglich
END:VEVENT
END:VCALENDAR