BEGIN:VCALENDAR
VERSION:2.0
PRODID:-//akse e. V. - ECPv6.15.20//NONSGML v1.0//EN
CALSCALE:GREGORIAN
METHOD:PUBLISH
X-ORIGINAL-URL:https://akse-ev.de
X-WR-CALDESC:Veranstaltungen für akse e. V.
REFRESH-INTERVAL;VALUE=DURATION:PT1H
X-Robots-Tag:noindex
X-PUBLISHED-TTL:PT1H
BEGIN:VTIMEZONE
TZID:Europe/Berlin
BEGIN:DAYLIGHT
TZOFFSETFROM:+0100
TZOFFSETTO:+0200
TZNAME:CEST
DTSTART:20240331T010000
END:DAYLIGHT
BEGIN:STANDARD
TZOFFSETFROM:+0200
TZOFFSETTO:+0100
TZNAME:CET
DTSTART:20241027T010000
END:STANDARD
BEGIN:DAYLIGHT
TZOFFSETFROM:+0100
TZOFFSETTO:+0200
TZNAME:CEST
DTSTART:20250330T010000
END:DAYLIGHT
BEGIN:STANDARD
TZOFFSETFROM:+0200
TZOFFSETTO:+0100
TZNAME:CET
DTSTART:20251026T010000
END:STANDARD
BEGIN:DAYLIGHT
TZOFFSETFROM:+0100
TZOFFSETTO:+0200
TZNAME:CEST
DTSTART:20260329T010000
END:DAYLIGHT
BEGIN:STANDARD
TZOFFSETFROM:+0200
TZOFFSETTO:+0100
TZNAME:CET
DTSTART:20261025T010000
END:STANDARD
END:VTIMEZONE
BEGIN:VEVENT
DTSTART;TZID=Europe/Berlin:20250516T000000
DTEND;TZID=Europe/Berlin:20250517T235959
DTSTAMP:20260421T123736
CREATED:20250306T105706Z
LAST-MODIFIED:20250411T120852Z
UID:1617-1747353600-1747526399@akse-ev.de
SUMMARY:Gestern - Heute - Morgen: Die Behindertenrechtsbewegung im Dialog – eine Mitmachtagung von Bifos e.V.
DESCRIPTION:Wann? Freitag\, 16. Mai 2025 ab 14.00 Uhr\, Samstag\, 17. Mai 2025 von 09.30 Uhr bis 15.00 Uhr \nWo? Zentrum für selbstbestimmtes Leben Kassel\, Samuel-Beckett-Anlage 6\, 34119 Kassel \nWorum geht’s? Wir laden euch ein\, aktiv an unserer Mitmach-Konferenz teilzunehmen! Gemeinsam schauen wir auf die Geschichte der Selbstbestimmt-Leben-Bewegung und diskutieren aktuelle Themen und Herausforderungen. Lernt voneinander\, gestaltet die Zukunft und lasst eure Stimmen hören! \nWie könnt ihr Euch einbringen? Unsere Konferenz lebt von euren Ideen\, Fragen und Themen! Habt ihr Vorschläge für Workshops\, Diskussionsrunden oder kreative Formate? Möchtet ihr Projekte vorstellen oder neue Initiativen anstoßen? Dann bringt euch ein und gestaltet die Inhalte mit! \nWarum dabei sein? \n\nFür junge Aktivistinnen: Nutzt die Chance\, von den Erfahrungen der Pioniere des Selbstbestimmten Lebens zu lernen und bringt eure Ideen für die nächsten Schritte ein.\nFür Wegbegleiter*innen: Teilt euer Wissen und inspiriert die nächste Generation zu einer inklusiven Zukunft!\n\nFinanzierung: Wir haben einen Förderantrag bei Aktion Mensch gestellt. Bei Bewilligung können wir Zuschüsse zu Übernachtungs- und Reisekosten anbieten. Wir halten euch auf dem Laufenden! \nAnmeldung: Meldet euch unter dem Link an und teilt uns eure Ideen mit! Der Anmeldeschluss ist Dienstag\, der 01. April 2025. \nFragen? Schreibt an Juliane Harms: juliane.harms@bifos.de \nLasst uns gemeinsam eine starke Stimme für die Zukunft der Inklusion und Selbstbestimmung sein! ?✨ #Teilhabe #Inklusion #SelbstbestimmtLeben #MitmachKonferenz
URL:https://akse-ev.de/veranstaltung/%f0%9f%8c%9f-gestern-heute-morgen-%f0%9f%8c%9fdie-behindertenrechtsbewegung-im-dialog-eine-mitmachtagung-von-bifos-e-v/
LOCATION:Zentrum für selbstbestimmtes Leben Kassel\, Samuel-Beckett-Anlage 6\, Kassel\, 34119\, Germany
ATTACH;FMTTYPE=image/jpeg:https://akse-ev.de/wp-content/uploads/2025/03/iStock-1480578223-scaled-e1741258679426.jpg
END:VEVENT
END:VCALENDAR