BEGIN:VCALENDAR
VERSION:2.0
PRODID:-//akse e. V. - ECPv6.15.20//NONSGML v1.0//EN
CALSCALE:GREGORIAN
METHOD:PUBLISH
X-WR-CALNAME:akse e. V.
X-ORIGINAL-URL:https://akse-ev.de
X-WR-CALDESC:Veranstaltungen für akse e. V.
REFRESH-INTERVAL;VALUE=DURATION:PT1H
X-Robots-Tag:noindex
X-PUBLISHED-TTL:PT1H
BEGIN:VTIMEZONE
TZID:Europe/Berlin
BEGIN:DAYLIGHT
TZOFFSETFROM:+0100
TZOFFSETTO:+0200
TZNAME:CEST
DTSTART:20240331T010000
END:DAYLIGHT
BEGIN:STANDARD
TZOFFSETFROM:+0200
TZOFFSETTO:+0100
TZNAME:CET
DTSTART:20241027T010000
END:STANDARD
BEGIN:DAYLIGHT
TZOFFSETFROM:+0100
TZOFFSETTO:+0200
TZNAME:CEST
DTSTART:20250330T010000
END:DAYLIGHT
BEGIN:STANDARD
TZOFFSETFROM:+0200
TZOFFSETTO:+0100
TZNAME:CET
DTSTART:20251026T010000
END:STANDARD
BEGIN:DAYLIGHT
TZOFFSETFROM:+0100
TZOFFSETTO:+0200
TZNAME:CEST
DTSTART:20260329T010000
END:DAYLIGHT
BEGIN:STANDARD
TZOFFSETFROM:+0200
TZOFFSETTO:+0100
TZNAME:CET
DTSTART:20261025T010000
END:STANDARD
END:VTIMEZONE
BEGIN:VEVENT
DTSTART;TZID=Europe/Berlin:20250415T170000
DTEND;TZID=Europe/Berlin:20250415T190000
DTSTAMP:20260421T115118
CREATED:20250328T114104Z
LAST-MODIFIED:20250328T115610Z
UID:1654-1744736400-1744743600@akse-ev.de
SUMMARY:Online Workshop Neu in der Assistenz (für Assistenzkräfte)
DESCRIPTION:Am 15. April 2025 möchten wir mit einem zweistündigen Online-Workshop die Newbies unter euch Assistenzkräften begrüßen. Wir geben euch in einem theoretischen Input einen Überblick über den Job in der Persönlichen Assistenz\, über eure Arbeitsfelder und Insider-Infos\, was ihr erwarten dürft. \nDieser Online-Workshop ist für alle Assistenzkräfte gedacht\, die sich neu in diesem Berufsfeld orientieren und Anschluss sowie Austausch suchen. \nBitte meldet euch bis spätestens 14. April 2025 um 9:00 Uhr über das folgende Formular an: https://forms.office.com/r/4kHSay77As
URL:https://akse-ev.de/veranstaltung/online-workshop-neu-in-der-assistenz-fuer-assistenzkraefte/
LOCATION:Online über Zoom\, Teilnahme ist über die Zoom-App\, am Computer über das Internet oder per Einwahl über Telefon möglich
ATTACH;FMTTYPE=image/png:https://akse-ev.de/wp-content/uploads/2025/03/1-e1743162935229.png
END:VEVENT
END:VCALENDAR