BEGIN:VCALENDAR
VERSION:2.0
PRODID:-//akse e. V. - ECPv6.15.20//NONSGML v1.0//EN
CALSCALE:GREGORIAN
METHOD:PUBLISH
X-ORIGINAL-URL:https://akse-ev.de
X-WR-CALDESC:Veranstaltungen für akse e. V.
REFRESH-INTERVAL;VALUE=DURATION:PT1H
X-Robots-Tag:noindex
X-PUBLISHED-TTL:PT1H
BEGIN:VTIMEZONE
TZID:Europe/Berlin
BEGIN:DAYLIGHT
TZOFFSETFROM:+0100
TZOFFSETTO:+0200
TZNAME:CEST
DTSTART:20230326T010000
END:DAYLIGHT
BEGIN:STANDARD
TZOFFSETFROM:+0200
TZOFFSETTO:+0100
TZNAME:CET
DTSTART:20231029T010000
END:STANDARD
BEGIN:DAYLIGHT
TZOFFSETFROM:+0100
TZOFFSETTO:+0200
TZNAME:CEST
DTSTART:20240331T010000
END:DAYLIGHT
BEGIN:STANDARD
TZOFFSETFROM:+0200
TZOFFSETTO:+0100
TZNAME:CET
DTSTART:20241027T010000
END:STANDARD
BEGIN:DAYLIGHT
TZOFFSETFROM:+0100
TZOFFSETTO:+0200
TZNAME:CEST
DTSTART:20250330T010000
END:DAYLIGHT
BEGIN:STANDARD
TZOFFSETFROM:+0200
TZOFFSETTO:+0100
TZNAME:CET
DTSTART:20251026T010000
END:STANDARD
END:VTIMEZONE
BEGIN:VEVENT
DTSTART;TZID=Europe/Berlin:20240903T170000
DTEND;TZID=Europe/Berlin:20240903T220000
DTSTAMP:20260421T144749
CREATED:20240826T081130Z
LAST-MODIFIED:20240826T081302Z
UID:803-1725382800-1725400800@akse-ev.de
SUMMARY:Sommerfest mit akse 2024
DESCRIPTION:Am Strandbad Plötzensee findet das akse Sommerfest statt. Es gibt Musik\, Getränke und mehr. Los geht es am 3. September um 17:00 Uhr. Um Anmeldung bitten wir unter der Email verwaltung@akse-ev.de
URL:https://akse-ev.de/veranstaltung/sommerfest-mit-akse-2024/
LOCATION:Strandbar Plötzensee\, Nordufer 26\, Berlin\, 13351
END:VEVENT
END:VCALENDAR